BEGIN:VCALENDAR
VERSION:2.0
PRODID:-//eventon.com NONSGML v1.0//EN
CALSCALE:GREGORIAN
METHOD:PUBLISH
BEGIN:VEVENT
UID:69e746bb03136
DTSTAMP:20260421T094323Z
DTSTART:20230622T190000Z
DTEND:20230622T235000Z
LOCATION:
SUMMARY:Singstunde
DESCRIPTION:Singstunde\nhttps://gv-niederotterbach.de/events/singstunde-45/
URL:https://gv-niederotterbach.de/events/singstunde-45/
END:VEVENT
END:VCALENDAR